














BEGIN:VCALENDAR
VERSION:2.0
PRODID:-//FONDI.eu - ECPv6.14.0//NONSGML v1.0//EN
CALSCALE:GREGORIAN
METHOD:PUBLISH
X-ORIGINAL-URL:https://fondi.eu
X-WR-CALDESC:Events for FONDI.eu
REFRESH-INTERVAL;VALUE=DURATION:PT1H
X-Robots-Tag:noindex
X-PUBLISHED-TTL:PT1H
BEGIN:VTIMEZONE
TZID:UTC
BEGIN:STANDARD
TZOFFSETFROM:+0000
TZOFFSETTO:+0000
TZNAME:UTC
DTSTART:20240101T000000
END:STANDARD
END:VTIMEZONE
BEGIN:VEVENT
DTSTART;VALUE=DATE:20240908
DTEND;VALUE=DATE:20240909
DTSTAMP:20260421T092636
CREATED:20240105T142701Z
LAST-MODIFIED:20240105T142701Z
UID:7407-1725753600-1725839999@fondi.eu
SUMMARY:Victory Day
DESCRIPTION:
URL:https://fondi.eu/event/victory-day/
CATEGORIES:Public Holidays
ATTACH;FMTTYPE=image/jpeg:https://fondi.eu/wp-content/uploads/2024/01/Victory-Day.jpg
END:VEVENT
BEGIN:VEVENT
DTSTART;VALUE=DATE:20240921
DTEND;VALUE=DATE:20240922
DTSTAMP:20260421T092636
CREATED:20240105T142825Z
LAST-MODIFIED:20240105T142825Z
UID:7410-1726876800-1726963199@fondi.eu
SUMMARY:Independence Day
DESCRIPTION:
URL:https://fondi.eu/event/independence-day/
CATEGORIES:Public Holidays
ATTACH;FMTTYPE=image/jpeg:https://fondi.eu/wp-content/uploads/2024/01/Independence-Day.jpg
END:VEVENT
END:VCALENDAR